BEGIN:VCALENDAR
VERSION:2.0
PRODID:-//Tukios.com/
BEGIN:VEVENT
UID:244ace11-f599-49a1-9d18-f993bde30030@www.morganfh.net
DTSTAMP:20260419T234706Z
DTSTART:20260423T200000Z
DTEND:20260423T210000Z
SUMMARY:Memorial Service
DESCRIPTION:
URL:https://www.morganfh.net/obituaries/kathryn-evans
LOCATION: 252 Montvue Dr  Lewisburg WV 24901
GEO:37.8169228;-80.4240023
END:VEVENT
END:VCALENDAR