BEGIN:VCALENDAR
VERSION:2.0
PRODID:-//Tukios.com/
BEGIN:VEVENT
UID:93c8c0fe-d225-4a4a-b2b9-a04d6c4ae78f@www.morganfh.net
DTSTAMP:20260419T234526Z
DTSTART:20260423T190000Z
DTEND:20260423T200000Z
SUMMARY:Visitation
DESCRIPTION:
URL:https://www.morganfh.net/obituaries/kathryn-evans
LOCATION: 252 Montvue Dr  Lewisburg WV 24901
GEO:37.8169228;-80.4240023
END:VEVENT
END:VCALENDAR