BEGIN:VCALENDAR
VERSION:2.0
PRODID:-//Tukios.com/
BEGIN:VEVENT
UID:2b5d10b7-c956-494d-b320-4716f89582f0@www.morganfh.net
DTSTAMP:20260422T005847Z
DTSTART:20260502T170000Z
DTEND:20260502T180000Z
SUMMARY:Celebration of Life
DESCRIPTION:
URL:https://www.morganfh.net/obituaries/ronda-mabry
LOCATION: 249 Skylar Drive  Lewisburg WV 24901
GEO:37.7638274;-80.47428
END:VEVENT
END:VCALENDAR